BEGIN:VCALENDAR
VERSION:2.0
PRODID:-//Knights of Columbus Council #11730 - ECPv6.15.20//NONSGML v1.0//EN
CALSCALE:GREGORIAN
METHOD:PUBLISH
X-WR-CALNAME:Knights of Columbus Council #11730
X-ORIGINAL-URL:https://olpknights.org
X-WR-CALDESC:Events for Knights of Columbus Council #11730
REFRESH-INTERVAL;VALUE=DURATION:PT1H
X-Robots-Tag:noindex
X-PUBLISHED-TTL:PT1H
BEGIN:VTIMEZONE
TZID:America/Denver
BEGIN:DAYLIGHT
TZOFFSETFROM:-0700
TZOFFSETTO:-0600
TZNAME:MDT
DTSTART:20210314T090000
END:DAYLIGHT
BEGIN:STANDARD
TZOFFSETFROM:-0600
TZOFFSETTO:-0700
TZNAME:MST
DTSTART:20211107T080000
END:STANDARD
BEGIN:DAYLIGHT
TZOFFSETFROM:-0700
TZOFFSETTO:-0600
TZNAME:MDT
DTSTART:20220313T090000
END:DAYLIGHT
BEGIN:STANDARD
TZOFFSETFROM:-0600
TZOFFSETTO:-0700
TZNAME:MST
DTSTART:20221106T080000
END:STANDARD
BEGIN:DAYLIGHT
TZOFFSETFROM:-0700
TZOFFSETTO:-0600
TZNAME:MDT
DTSTART:20230312T090000
END:DAYLIGHT
BEGIN:STANDARD
TZOFFSETFROM:-0600
TZOFFSETTO:-0700
TZNAME:MST
DTSTART:20231105T080000
END:STANDARD
END:VTIMEZONE
BEGIN:VEVENT
DTSTART;TZID=America/Denver:20221013T183000
DTEND;TZID=America/Denver:20221013T190000
DTSTAMP:20260424T081436
CREATED:20221012T012303Z
LAST-MODIFIED:20221012T012303Z
UID:1521-1665685800-1665687600@olpknights.org
SUMMARY:Rosary Prayer
DESCRIPTION:We will pray the rosary in the parish hall before our business meeting.
URL:https://olpknights.org/event/rosary-prayer/
LOCATION:Monthly Meeting\, 11020 Teachout Rd\, Black Forest\, CO\, 80908\, United States
CATEGORIES:Meeting in Parish Hall
END:VEVENT
END:VCALENDAR